BEGIN:VCALENDAR
VERSION:2.0
CALSCALE:GREGORIAN
PRODID:-//Diputació de Barcelona//DibaCMS//EN
BEGIN:VEVENT
UID:9924
DTSTAMP:20260426T025006
DTSTART:20260123T190000
DTEND:20260123T210000
SUMMARY:Tastet de finances
LOCATION:Plaça de l' Ajuntament, edifici l'Escola (planta baixa) 8299 Rellinars
METHOD:PUBLISH
X-WR-CALNAME:rellinars@rellinars.cat
X-WR-TIMEZONE:Europe/Madrid
DESCRIPTION:La Barraca organitza un tastet gratuït de finances pensat per oferir eines pràctiques i útils pel dia a dia. El divendres 23, al Casal de Cultura, a les 19h.

Curs a càrrec de Carles Bigorra.

URI:https://www.rellinars.cat/actualitat/agenda/tastet-de-finances.html
CLASS:PUBLIC
END:VEVENT
END:VCALENDAR
