BEGIN:VCALENDAR
VERSION:2.0
CALSCALE:GREGORIAN
PRODID:-//Diputació de Barcelona//DibaCMS//EN
BEGIN:VEVENT
UID:9869
DTSTAMP:20260426T013820
DTSTART:20261105T110000
DTEND:20261105T120000
SUMMARY:Servei d'atenció Mina 
LOCATION:Pl. de l'Ajuntament, s/n 08299 Rellinars
METHOD:PUBLISH
X-WR-CALNAME:rellinars@rellinars.cat
X-WR-TIMEZONE:Europe/Madrid
DESCRIPTION:Cada primer dijous de mes, està disponible el servei d'atenció als clients de Mina a l'Ajuntament, d'11h a 12h. No cal cita prèvia.

URI:https://www.rellinars.cat/actualitat/agenda/9869-servei-datencio-mina-.html
CLASS:PUBLIC
END:VEVENT
END:VCALENDAR
