BEGIN:VCALENDAR
VERSION:2.0
CALSCALE:GREGORIAN
PRODID:-//Diputació de Barcelona//DibaCMS//EN
BEGIN:VEVENT
UID:9314
DTSTAMP:20260421T045942
DTSTART:20240323T103000
DTEND:20240323T140000
SUMMARY:Concert Solidari 
LOCATION:Avinguda del Planet, 19 / Carrer Xiprer, s/n 08299 Rellinars
METHOD:PUBLISH
X-WR-CALNAME:rellinars@rellinars.cat
X-WR-TIMEZONE:Europe/Madrid
DESCRIPTION:
URI:https://www.rellinars.cat/actualitat/agenda/9314-concert-solidari-.html
CLASS:PUBLIC
END:VEVENT
END:VCALENDAR
