BEGIN:VCALENDAR
VERSION:2.0
CALSCALE:GREGORIAN
PRODID:-//Diputació de Barcelona//DibaCMS//EN
BEGIN:VEVENT
UID:3714
DTSTAMP:20260424T192416
DTSTART:20231104T193000
DTEND:20231105T130000
SUMMARY:Fira del llibre i col·loqui amb Sílvia Alcàntara
LOCATION:
METHOD:PUBLISH
X-WR-CALNAME:rellinars@rellinars.cat
X-WR-TIMEZONE:Europe/Madrid
DESCRIPTION:
URI:https://www.rellinars.cat/actualitat/agenda/fira-del-llibre-i-colloqui-amb-silvia-alcantara.html
CLASS:PUBLIC
END:VEVENT
END:VCALENDAR
