BEGIN:VCALENDAR
VERSION:2.0
CALSCALE:GREGORIAN
PRODID:-//Diputació de Barcelona//DibaCMS//EN
BEGIN:VEVENT
UID:3023
DTSTAMP:20260423T013155
DTSTART:20210708T110000
DTEND:20210708T130000
SUMMARY:Bibliobús La Mola - El Planet   
LOCATION:
METHOD:PUBLISH
X-WR-CALNAME:rellinars@rellinars.cat
X-WR-TIMEZONE:Europe/Madrid
DESCRIPTION:
URI:https://www.rellinars.cat/actualitat/agenda/3023-bibliobus-la-mola-el-planet-.html
CLASS:PUBLIC
END:VEVENT
END:VCALENDAR
