BEGIN:VCALENDAR
VERSION:2.0
CALSCALE:GREGORIAN
PRODID:-//Diputació de Barcelona//DibaCMS//EN
BEGIN:VEVENT
UID:2770
DTSTAMP:20260423T112909
DTSTART:20200723T153000
DTEND:20200723T163000
SUMMARY:Bibliobús La Mola - Ajuntament 
LOCATION:Pl. de l'Ajuntament, s/n 08299 Rellinars
METHOD:PUBLISH
X-WR-CALNAME:rellinars@rellinars.cat
X-WR-TIMEZONE:Europe/Madrid
DESCRIPTION:Recordeu que a causa de la COVID-19 cal seguir les instruccions i mesures de seguretat per a la reserva de llibres.

https://www.rellinars.cat/actualitat/agenda/nou-horari-bibliobus-la-mola.html

URI:https://www.rellinars.cat/actualitat/agenda/2770-bibliobus-la-mola-ajuntament-.html
CLASS:PUBLIC
END:VEVENT
END:VCALENDAR
