BEGIN:VCALENDAR
VERSION:2.0
CALSCALE:GREGORIAN
PRODID:-//Diputació de Barcelona//DibaCMS//EN
BEGIN:VEVENT
UID:10077
DTSTAMP:20260425T053422
DTSTART:20260509T090000
DTEND:20260509T130000
SUMMARY:Curs de Pedra Seca primera sessió
LOCATION:Plaça de l' Ajuntament, edifici l'Escola (planta baixa) 8299 Rellinars
METHOD:PUBLISH
X-WR-CALNAME:rellinars@rellinars.cat
X-WR-TIMEZONE:Europe/Madrid
DESCRIPTION:Aquesta sessió del curs "Restauració de la Barraca del Clot dels Faixons", consisteix en una primera jornada teòrica el dia 9 de maig, a les 9:00h del matí al Casal de Cultura, que serà obert a tothom qui vulgui conèixer una mica aquesta tècnica de construcció, que ha estat reconeguda com a Patrimoni Cultural Immaterial de la Humanitat, el 28 de novembre de 2018.

URI:https://www.rellinars.cat/actualitat/agenda/curs-de-pedra-seca-primera-sessio.html
CLASS:PUBLIC
END:VEVENT
END:VCALENDAR
