BEGIN:VCALENDAR
VERSION:2.0
CALSCALE:GREGORIAN
PRODID:-//Diputació de Barcelona//DibaCMS//EN
BEGIN:VEVENT
UID:10061
DTSTAMP:20260420T042659
DTSTART:20260505T170000
DTEND:20260505T190000
SUMMARY:Jocs de taula i aula d'estudi 
LOCATION:Avinguda del Planet, 19 / Carrer Xiprer, s/n 08299 Rellinars
METHOD:PUBLISH
X-WR-CALNAME:rellinars@rellinars.cat
X-WR-TIMEZONE:Europe/Madrid
DESCRIPTION:Jornades de jocs de taula i sessions d’estudi al Local Social, cada dimarts de 17 h a 19 h i està oberta a tothom, amb entrada lliure i gratuïta. Aquesta iniciativa està organitzada conjuntament per l’AFA i La Barraca.

URI:https://www.rellinars.cat/actualitat/agenda/10061-jocs-de-taula-i-aula-destudi-.html
CLASS:PUBLIC
END:VEVENT
END:VCALENDAR
