BEGIN:VCALENDAR
VERSION:2.0
CALSCALE:GREGORIAN
PRODID:-//Diputació de Barcelona//DibaCMS//EN
BEGIN:VEVENT
UID:10056
DTSTAMP:20260421T193816
DTSTART:20260519T130500
DTEND:20260519T143000
SUMMARY:Banca mòbil. CaixaBank  
LOCATION:Plaça 11 de Setembre 
METHOD:PUBLISH
X-WR-CALNAME:rellinars@rellinars.cat
X-WR-TIMEZONE:Europe/Madrid
DESCRIPTION:Aquest 19 de maig, ve la banca mòbil CaixaBank a la Plaça 11 de Setembre, de 13:05h a 14:30h.

URI:https://www.rellinars.cat/actualitat/agenda/10056-banca-mobil-caixabank-.html
CLASS:PUBLIC
END:VEVENT
END:VCALENDAR
