BEGIN:VCALENDAR
VERSION:2.0
CALSCALE:GREGORIAN
PRODID:-//Diputació de Barcelona//DibaCMS//EN
BEGIN:VEVENT
UID:10050
DTSTAMP:20260421T120116
DTSTART:20260415T180000
DTEND:20260415T200000
SUMMARY:Reunió Pla de Mobilitat
LOCATION:Plaça de l' Ajuntament, edifici l'Escola (planta baixa) 8299 Rellinars
METHOD:PUBLISH
X-WR-CALNAME:rellinars@rellinars.cat
X-WR-TIMEZONE:Europe/Madrid
DESCRIPTION:Us informem que el pròxim dimecres 15 d’abril, a les 18 h, tindrà lloc una reunió informativa sobre el Pla de Mobilitat al Casal de Cultura.

Durant la sessió, els tècnics de la Diputació presentaran la proposta plantejada i recolliran els vostres suggeriments i necessitats com canvis de sentit en carrers, noves senyalitzacions o millores en la seguretat dels vianants.

Us convidem a participar-hi activament.

URI:https://www.rellinars.cat/actualitat/agenda/reunio-pla-de-mobilitat.html
CLASS:PUBLIC
END:VEVENT
END:VCALENDAR
