BEGIN:VCALENDAR
VERSION:2.0
CALSCALE:GREGORIAN
PRODID:-//Diputació de Barcelona//DibaCMS//EN
BEGIN:VEVENT
UID:10007
DTSTAMP:20260422T103120
DTSTART:20260310T080000
DTEND:20260310T090000
SUMMARY:Reunió planificació actuacions PPA 
LOCATION:Videoconferència 
METHOD:PUBLISH
X-WR-CALNAME:rellinars@rellinars.cat
X-WR-TIMEZONE:Europe/Madrid
DESCRIPTION:
URI:https://www.rellinars.cat/ajuntament/govern/agenda-politica/reunio-planificacio-actuacions-ppa-.html
CLASS:PUBLIC
END:VEVENT
END:VCALENDAR
