BEGIN:VCALENDAR
VERSION:2.0
CALSCALE:GREGORIAN
PRODID:-//Diputació de Barcelona//DibaCMS//EN
BEGIN:VEVENT
UID:DI_10024@www.rellinars.cat
DTSTAMP:20260421T181552
DTSTART:20260421T130500
DTEND:20260421T143000
SUMMARY:Banca mòbil. CaixaBank 
LOCATION:Plaça 11 de Setembre 
METHOD:PUBLISH
X-WR-CALNAME:rellinars@rellinars.cat
X-WR-TIMEZONE:Europe/Madrid
DESCRIPTION:Aquest 21 d'abril, ve la banca mòbil CaixaBank 
	a la Plaça 11 de Setembre, de 13:05h a 14:30h.
URI:https://www.rellinars.cat/actualitat/agenda/10024-banca-mobil-caixabank-.html
CLASS:PUBLIC
END:VEVENT
BEGIN:VEVENT
UID:DI_10059@www.rellinars.cat
DTSTAMP:20260421T181552
DTSTART:20260421T170000
DTEND:20260421T190000
SUMMARY:Jocs de taula i aula d'estudi
LOCATION:Avinguda del Planet, 19 / Carrer Xiprer, s/n 08299 Rellinars
METHOD:PUBLISH
X-WR-CALNAME:rellinars@rellinars.cat
X-WR-TIMEZONE:Europe/Madrid
DESCRIPTION:Jornades de jocs de taula i sessions d’estudi al Local So
	cial, cada dimarts de 17 h a 19 h i està oberta a tothom, amb 
	entrada lliure i gratuïta. Aquesta iniciativa està organi
	tzada conjuntament per l’AFA i La Barraca.
URI:https://www.rellinars.cat/actualitat/agenda/jocs-de-taula-i-aula-destudi.html
CLASS:PUBLIC
END:VEVENT
BEGIN:VEVENT
UID:DI_10073@www.rellinars.cat
DTSTAMP:20260421T181552
DTSTART:20260423T000000
DTEND:20260424T000000
SUMMARY:Parada de roses i llibres
LOCATION:Plaça 11 de setembre 
METHOD:PUBLISH
X-WR-CALNAME:rellinars@rellinars.cat
X-WR-TIMEZONE:Europe/Madrid
DESCRIPTION:Aquest Sant Jordi, l’Associació d’Animals de
	 Rellinars t’espera amb una parada plena de vida i solidaritat.&nbsp
	;Hi trobaràs roses, llibres i articles per a gossos i gats, tot per
	 donar suport a la tasca de protecció animal. Passa’t el dijo
	us 23 d’abril per la Plaça 11 de Setembre i suma’t a la
	 causa. T’hi esperem!
URI:https://www.rellinars.cat/actualitat/agenda/parada-de-roses-i-llibres.html
CLASS:PUBLIC
END:VEVENT
BEGIN:VEVENT
UID:DI_9895@www.rellinars.cat
DTSTAMP:20260421T181552
DTSTART:20260423T110000
DTEND:20260423T133000
SUMMARY:Bibliobús La Mola - El Planet -  
LOCATION:Passatge Xiprer, s/n 08299 Rellinars
METHOD:PUBLISH
X-WR-CALNAME:rellinars@rellinars.cat
X-WR-TIMEZONE:Europe/Madrid
DESCRIPTION:Per consultar les següents dates: https://bibliotecav
	irtual.diba.cat/ca/bibliobus-la-mola
URI:https://www.rellinars.cat/actualitat/agenda/9895-bibliobus-la-mola-el-planet-.html
CLASS:PUBLIC
END:VEVENT
BEGIN:VEVENT
UID:DI_9953@www.rellinars.cat
DTSTAMP:20260421T181552
DTSTART:20260430T110000
DTEND:20260430T133000
SUMMARY:Bibliobús La Mola -Ajuntament-  
LOCATION:Pl. de l'Ajuntament, s/n 08299 Rellinars
METHOD:PUBLISH
X-WR-CALNAME:rellinars@rellinars.cat
X-WR-TIMEZONE:Europe/Madrid
DESCRIPTION:Per consultar les següents dates: https://bibliotecav
	irtual.diba.cat/ca/bibliobus-la-mola
URI:https://www.rellinars.cat/actualitat/agenda/9953-bibliobus-la-mola-ajuntament-.html
CLASS:PUBLIC
END:VEVENT
BEGIN:VEVENT
UID:DI_10061@www.rellinars.cat
DTSTAMP:20260421T181552
DTSTART:20260505T170000
DTEND:20260505T190000
SUMMARY:Jocs de taula i aula d'estudi 
LOCATION:Avinguda del Planet, 19 / Carrer Xiprer, s/n 08299 Rellinars
METHOD:PUBLISH
X-WR-CALNAME:rellinars@rellinars.cat
X-WR-TIMEZONE:Europe/Madrid
DESCRIPTION:Jornades de jocs de taula i sessions d’estudi al Local So
	cial, cada dimarts de 17 h a 19 h i està oberta a tothom, amb 
	entrada lliure i gratuïta. Aquesta iniciativa està organi
	tzada conjuntament per l’AFA i La Barraca.
URI:https://www.rellinars.cat/actualitat/agenda/10061-jocs-de-taula-i-aula-destudi-.html
CLASS:PUBLIC
END:VEVENT
BEGIN:VEVENT
UID:DI_9846@www.rellinars.cat
DTSTAMP:20260421T181552
DTSTART:20260507T084500
DTEND:20260507T094500
SUMMARY:Banca Mòbil - Caixa Enginyers  
LOCATION:Plaça 11 de Setembre 
METHOD:PUBLISH
X-WR-CALNAME:rellinars@rellinars.cat
X-WR-TIMEZONE:Europe/Madrid
DESCRIPTION:El dia 7 de maig la banca mòbil dóna servei 
	de CaixaEnginyers. A la Plaça 11 de Setembre, de 08:45h a 09:45h.
URI:https://www.rellinars.cat/actualitat/agenda/9846-banca-mobil-caixa-enginyers-.html
CLASS:PUBLIC
END:VEVENT
BEGIN:VEVENT
UID:DI_9863@www.rellinars.cat
DTSTAMP:20260421T181552
DTSTART:20260507T110000
DTEND:20260507T120000
SUMMARY:Servei d'atenció Mina
LOCATION:Pl. de l'Ajuntament, s/n 08299 Rellinars
METHOD:PUBLISH
X-WR-CALNAME:rellinars@rellinars.cat
X-WR-TIMEZONE:Europe/Madrid
DESCRIPTION:Cada primer dijous de mes, està disponible el servei d&#
	39;atenció als clients de Mina a l'Ajuntament, d'11h a 12h.
	 No cal cita prèvia.
URI:https://www.rellinars.cat/actualitat/agenda/9863-servei-datencio-mina.html
CLASS:PUBLIC
END:VEVENT
BEGIN:VEVENT
UID:DI_9896@www.rellinars.cat
DTSTAMP:20260421T181552
DTSTART:20260507T110000
DTEND:20260507T133000
SUMMARY:Bibliobús La Mola - El Planet -  
LOCATION:Passatge Xiprer, s/n 08299 Rellinars
METHOD:PUBLISH
X-WR-CALNAME:rellinars@rellinars.cat
X-WR-TIMEZONE:Europe/Madrid
DESCRIPTION:Per consultar les següents dates: https://bibliotecav
	irtual.diba.cat/ca/bibliobus-la-mola
URI:https://www.rellinars.cat/actualitat/agenda/9896-bibliobus-la-mola-el-planet-.html
CLASS:PUBLIC
END:VEVENT
BEGIN:VEVENT
UID:DI_10062@www.rellinars.cat
DTSTAMP:20260421T181552
DTSTART:20260512T170000
DTEND:20260512T190000
SUMMARY:Jocs de taula i aula d'estudi  
LOCATION:Avinguda del Planet, 19 / Carrer Xiprer, s/n 08299 Rellinars
METHOD:PUBLISH
X-WR-CALNAME:rellinars@rellinars.cat
X-WR-TIMEZONE:Europe/Madrid
DESCRIPTION:Jornades de jocs de taula i sessions d’estudi al Local So
	cial, cada dimarts de 17 h a 19 h i està oberta a tothom, amb 
	entrada lliure i gratuïta. Aquesta iniciativa està organi
	tzada conjuntament per l’AFA i La Barraca.
URI:https://www.rellinars.cat/actualitat/agenda/10062-jocs-de-taula-i-aula-destudi-.html
CLASS:PUBLIC
END:VEVENT
BEGIN:VEVENT
UID:DI_9954@www.rellinars.cat
DTSTAMP:20260421T181552
DTSTART:20260514T110000
DTEND:20260514T133000
SUMMARY:Bibliobús La Mola -Ajuntament-  
LOCATION:Pl. de l'Ajuntament, s/n 08299 Rellinars
METHOD:PUBLISH
X-WR-CALNAME:rellinars@rellinars.cat
X-WR-TIMEZONE:Europe/Madrid
DESCRIPTION:Per consultar les següents dates: https://bibliotecav
	irtual.diba.cat/ca/bibliobus-la-mola
URI:https://www.rellinars.cat/actualitat/agenda/9954-bibliobus-la-mola-ajuntament-.html
CLASS:PUBLIC
END:VEVENT
BEGIN:VEVENT
UID:DI_10056@www.rellinars.cat
DTSTAMP:20260421T181552
DTSTART:20260519T130500
DTEND:20260519T143000
SUMMARY:Banca mòbil. CaixaBank  
LOCATION:Plaça 11 de Setembre 
METHOD:PUBLISH
X-WR-CALNAME:rellinars@rellinars.cat
X-WR-TIMEZONE:Europe/Madrid
DESCRIPTION:Aquest 19 de maig, ve la banca mòbil CaixaBank a la
	 Plaça 11 de Setembre, de 13:05h a 14:30h.
URI:https://www.rellinars.cat/actualitat/agenda/10056-banca-mobil-caixabank-.html
CLASS:PUBLIC
END:VEVENT
BEGIN:VEVENT
UID:DI_10063@www.rellinars.cat
DTSTAMP:20260421T181552
DTSTART:20260519T170000
DTEND:20260519T190000
SUMMARY:Jocs de taula i aula d'estudi 
LOCATION:Avinguda del Planet, 19 / Carrer Xiprer, s/n 08299 Rellinars
METHOD:PUBLISH
X-WR-CALNAME:rellinars@rellinars.cat
X-WR-TIMEZONE:Europe/Madrid
DESCRIPTION:Jornades de jocs de taula i sessions d’estudi al Local So
	cial, cada dimarts de 17 h a 19 h i està oberta a tothom, amb 
	entrada lliure i gratuïta. Aquesta iniciativa està organi
	tzada conjuntament per l’AFA i La Barraca.
URI:https://www.rellinars.cat/actualitat/agenda/10063-jocs-de-taula-i-aula-destudi-.html
CLASS:PUBLIC
END:VEVENT
BEGIN:VEVENT
UID:DI_9897@www.rellinars.cat
DTSTAMP:20260421T181552
DTSTART:20260521T110000
DTEND:20260521T133000
SUMMARY:Bibliobús La Mola - El Planet - 
LOCATION:Passatge Xiprer, s/n 08299 Rellinars
METHOD:PUBLISH
X-WR-CALNAME:rellinars@rellinars.cat
X-WR-TIMEZONE:Europe/Madrid
DESCRIPTION:Per consultar les següents dates: https://bibliotecav
	irtual.diba.cat/ca/bibliobus-la-mola
URI:https://www.rellinars.cat/actualitat/agenda/9897-bibliobus-la-mola-el-planet-.html
CLASS:PUBLIC
END:VEVENT
BEGIN:VEVENT
UID:DI_10064@www.rellinars.cat
DTSTAMP:20260421T181552
DTSTART:20260526T170000
DTEND:20260526T190000
SUMMARY:Jocs de taula i aula d'estudi 
LOCATION:Avinguda del Planet, 19 / Carrer Xiprer, s/n 08299 Rellinars
METHOD:PUBLISH
X-WR-CALNAME:rellinars@rellinars.cat
X-WR-TIMEZONE:Europe/Madrid
DESCRIPTION:Jornades de jocs de taula i sessions d’estudi al Local So
	cial, cada dimarts de 17 h a 19 h i està oberta a tothom, amb 
	entrada lliure i gratuïta. Aquesta iniciativa està organi
	tzada conjuntament per l’AFA i La Barraca.
URI:https://www.rellinars.cat/actualitat/agenda/10064-jocs-de-taula-i-aula-destudi-.html
CLASS:PUBLIC
END:VEVENT
BEGIN:VEVENT
UID:DI_9955@www.rellinars.cat
DTSTAMP:20260421T181552
DTSTART:20260528T110000
DTEND:20260528T133000
SUMMARY:Bibliobús La Mola -Ajuntament-  
LOCATION:Pl. de l'Ajuntament, s/n 08299 Rellinars
METHOD:PUBLISH
X-WR-CALNAME:rellinars@rellinars.cat
X-WR-TIMEZONE:Europe/Madrid
DESCRIPTION:Per consultar les següents dates: https://bibliotecav
	irtual.diba.cat/ca/bibliobus-la-mola
URI:https://www.rellinars.cat/actualitat/agenda/9955-bibliobus-la-mola-ajuntament-.html
CLASS:PUBLIC
END:VEVENT
BEGIN:VEVENT
UID:DI_9864@www.rellinars.cat
DTSTAMP:20260421T181552
DTSTART:20260604T110000
DTEND:20260604T120000
SUMMARY:Servei d'atenció Mina 
LOCATION:Pl. de l'Ajuntament, s/n 08299 Rellinars
METHOD:PUBLISH
X-WR-CALNAME:rellinars@rellinars.cat
X-WR-TIMEZONE:Europe/Madrid
DESCRIPTION:Cada primer dijous de mes, està disponible el servei d&#
	39;atenció als clients de Mina a l'Ajuntament, d'11h a 12h.
	 No cal cita prèvia.
URI:https://www.rellinars.cat/actualitat/agenda/9864-servei-datencio-mina-.html
CLASS:PUBLIC
END:VEVENT
BEGIN:VEVENT
UID:DI_9898@www.rellinars.cat
DTSTAMP:20260421T181552
DTSTART:20260604T110000
DTEND:20260604T133000
SUMMARY:Bibliobús La Mola - El Planet - 
LOCATION:Passatge Xiprer, s/n 08299 Rellinars
METHOD:PUBLISH
X-WR-CALNAME:rellinars@rellinars.cat
X-WR-TIMEZONE:Europe/Madrid
DESCRIPTION:Per consultar les següents dates: https://bibliotecav
	irtual.diba.cat/ca/bibliobus-la-mola
URI:https://www.rellinars.cat/actualitat/agenda/9898-bibliobus-la-mola-el-planet-.html
CLASS:PUBLIC
END:VEVENT
BEGIN:VEVENT
UID:DI_9956@www.rellinars.cat
DTSTAMP:20260421T181552
DTSTART:20260611T110000
DTEND:20260611T133000
SUMMARY:Bibliobús La Mola -Ajuntament- 
LOCATION:Pl. de l'Ajuntament, s/n 08299 Rellinars
METHOD:PUBLISH
X-WR-CALNAME:rellinars@rellinars.cat
X-WR-TIMEZONE:Europe/Madrid
DESCRIPTION:Per consultar les següents dates: https://bibliotecav
	irtual.diba.cat/ca/bibliobus-la-mola
URI:https://www.rellinars.cat/actualitat/agenda/9956-bibliobus-la-mola-ajuntament-.html
CLASS:PUBLIC
END:VEVENT
BEGIN:VEVENT
UID:DI_9899@www.rellinars.cat
DTSTAMP:20260421T181552
DTSTART:20260618T110000
DTEND:20260618T133000
SUMMARY:Bibliobús La Mola - El Planet -  
LOCATION:Passatge Xiprer, s/n 08299 Rellinars
METHOD:PUBLISH
X-WR-CALNAME:rellinars@rellinars.cat
X-WR-TIMEZONE:Europe/Madrid
DESCRIPTION:Per consultar les següents dates: https://bibliotecav
	irtual.diba.cat/ca/bibliobus-la-mola
URI:https://www.rellinars.cat/actualitat/agenda/9899-bibliobus-la-mola-el-planet-.html
CLASS:PUBLIC
END:VEVENT
BEGIN:VEVENT
UID:DI_9957@www.rellinars.cat
DTSTAMP:20260421T181552
DTSTART:20260625T110000
DTEND:20260625T133000
SUMMARY:Bibliobús La Mola -Ajuntament-  
LOCATION:Pl. de l'Ajuntament, s/n 08299 Rellinars
METHOD:PUBLISH
X-WR-CALNAME:rellinars@rellinars.cat
X-WR-TIMEZONE:Europe/Madrid
DESCRIPTION:Per consultar les següents dates: https://bibliotecav
	irtual.diba.cat/ca/bibliobus-la-mola
URI:https://www.rellinars.cat/actualitat/agenda/9957-bibliobus-la-mola-ajuntament-.html
CLASS:PUBLIC
END:VEVENT
BEGIN:VEVENT
UID:DI_9865@www.rellinars.cat
DTSTAMP:20260421T181552
DTSTART:20260702T110000
DTEND:20260702T120000
SUMMARY:Servei d'atenció Mina
LOCATION:Pl. de l'Ajuntament, s/n 08299 Rellinars
METHOD:PUBLISH
X-WR-CALNAME:rellinars@rellinars.cat
X-WR-TIMEZONE:Europe/Madrid
DESCRIPTION:Cada primer dijous de mes, està disponible el servei d&#
	39;atenció als clients de Mina a l'Ajuntament, d'11h a 12h.
	 No cal cita prèvia.
URI:https://www.rellinars.cat/actualitat/agenda/9865-servei-datencio-mina.html
CLASS:PUBLIC
END:VEVENT
BEGIN:VEVENT
UID:DI_9900@www.rellinars.cat
DTSTAMP:20260421T181552
DTSTART:20260702T110000
DTEND:20260702T133000
SUMMARY:Bibliobús La Mola - El Planet - 
LOCATION:Passatge Xiprer, s/n 08299 Rellinars
METHOD:PUBLISH
X-WR-CALNAME:rellinars@rellinars.cat
X-WR-TIMEZONE:Europe/Madrid
DESCRIPTION:Per consultar les següents dates: https://bibliotecav
	irtual.diba.cat/ca/bibliobus-la-mola
URI:https://www.rellinars.cat/actualitat/agenda/9900-bibliobus-la-mola-el-planet-.html
CLASS:PUBLIC
END:VEVENT
BEGIN:VEVENT
UID:DI_9958@www.rellinars.cat
DTSTAMP:20260421T181552
DTSTART:20260709T110000
DTEND:20260709T133000
SUMMARY:Bibliobús La Mola -Ajuntament- 
LOCATION:Pl. de l'Ajuntament, s/n 08299 Rellinars
METHOD:PUBLISH
X-WR-CALNAME:rellinars@rellinars.cat
X-WR-TIMEZONE:Europe/Madrid
DESCRIPTION:Per consultar les següents dates: https://bibliotecav
	irtual.diba.cat/ca/bibliobus-la-mola
URI:https://www.rellinars.cat/actualitat/agenda/9958-bibliobus-la-mola-ajuntament-.html
CLASS:PUBLIC
END:VEVENT
BEGIN:VEVENT
UID:DI_9901@www.rellinars.cat
DTSTAMP:20260421T181552
DTSTART:20260716T110000
DTEND:20260716T133000
SUMMARY:Bibliobús La Mola - El Planet - 
LOCATION:Passatge Xiprer, s/n 08299 Rellinars
METHOD:PUBLISH
X-WR-CALNAME:rellinars@rellinars.cat
X-WR-TIMEZONE:Europe/Madrid
DESCRIPTION:Per consultar les següents dates: https://bibliotecav
	irtual.diba.cat/ca/bibliobus-la-mola
URI:https://www.rellinars.cat/actualitat/agenda/9901-bibliobus-la-mola-el-planet-.html
CLASS:PUBLIC
END:VEVENT
BEGIN:VEVENT
UID:DI_9959@www.rellinars.cat
DTSTAMP:20260421T181552
DTSTART:20260723T110000
DTEND:20260723T133000
SUMMARY:Bibliobús La Mola -Ajuntament- 
LOCATION:Pl. de l'Ajuntament, s/n 08299 Rellinars
METHOD:PUBLISH
X-WR-CALNAME:rellinars@rellinars.cat
X-WR-TIMEZONE:Europe/Madrid
DESCRIPTION:Per consultar les següents dates: https://bibliotecav
	irtual.diba.cat/ca/bibliobus-la-mola
URI:https://www.rellinars.cat/actualitat/agenda/9959-bibliobus-la-mola-ajuntament-.html
CLASS:PUBLIC
END:VEVENT
BEGIN:VEVENT
UID:DI_9866@www.rellinars.cat
DTSTAMP:20260421T181552
DTSTART:20260806T110000
DTEND:20260806T120000
SUMMARY:Servei d'atenció Mina
LOCATION:Pl. de l'Ajuntament, s/n 08299 Rellinars
METHOD:PUBLISH
X-WR-CALNAME:rellinars@rellinars.cat
X-WR-TIMEZONE:Europe/Madrid
DESCRIPTION:Cada primer dijous de mes, està disponible el servei d&#
	39;atenció als clients de Mina a l'Ajuntament, d'11h a 12h.
	 No cal cita prèvia.
URI:https://www.rellinars.cat/actualitat/agenda/9866-servei-datencio-mina.html
CLASS:PUBLIC
END:VEVENT
BEGIN:VEVENT
UID:DI_9867@www.rellinars.cat
DTSTAMP:20260421T181552
DTSTART:20260903T110000
DTEND:20260903T120000
SUMMARY:Servei d'atenció Mina 
LOCATION:Pl. de l'Ajuntament, s/n 08299 Rellinars
METHOD:PUBLISH
X-WR-CALNAME:rellinars@rellinars.cat
X-WR-TIMEZONE:Europe/Madrid
DESCRIPTION:Cada primer dijous de mes, està disponible el servei d&#
	39;atenció als clients de Mina a l'Ajuntament, d'11h a 12h.
	 No cal cita prèvia.
URI:https://www.rellinars.cat/actualitat/agenda/9867-servei-datencio-mina-.html
CLASS:PUBLIC
END:VEVENT
BEGIN:VEVENT
UID:DI_9902@www.rellinars.cat
DTSTAMP:20260421T181552
DTSTART:20260903T110000
DTEND:20260903T133000
SUMMARY:Bibliobús La Mola - El Planet -  
LOCATION:Passatge Xiprer, s/n 08299 Rellinars
METHOD:PUBLISH
X-WR-CALNAME:rellinars@rellinars.cat
X-WR-TIMEZONE:Europe/Madrid
DESCRIPTION:Per consultar les següents dates: https://bibliotecav
	irtual.diba.cat/ca/bibliobus-la-mola
URI:https://www.rellinars.cat/actualitat/agenda/9902-bibliobus-la-mola-el-planet-.html
CLASS:PUBLIC
END:VEVENT
BEGIN:VEVENT
UID:DI_9960@www.rellinars.cat
DTSTAMP:20260421T181552
DTSTART:20260910T110000
DTEND:20260910T133000
SUMMARY:Bibliobús La Mola -Ajuntament-
LOCATION:Pl. de l'Ajuntament, s/n 08299 Rellinars
METHOD:PUBLISH
X-WR-CALNAME:rellinars@rellinars.cat
X-WR-TIMEZONE:Europe/Madrid
DESCRIPTION:Per consultar les següents dates: https://bibliotecav
	irtual.diba.cat/ca/bibliobus-la-mola
URI:https://www.rellinars.cat/actualitat/agenda/9960-bibliobus-la-mola-ajuntament-.html
CLASS:PUBLIC
END:VEVENT
BEGIN:VEVENT
UID:DI_9903@www.rellinars.cat
DTSTAMP:20260421T181552
DTSTART:20260917T110000
DTEND:20260917T133000
SUMMARY:Bibliobús La Mola - El Planet - 
LOCATION:Passatge Xiprer, s/n 08299 Rellinars
METHOD:PUBLISH
X-WR-CALNAME:rellinars@rellinars.cat
X-WR-TIMEZONE:Europe/Madrid
DESCRIPTION:Per consultar les següents dates: https://bibliotecav
	irtual.diba.cat/ca/bibliobus-la-mola
URI:https://www.rellinars.cat/actualitat/agenda/9903-bibliobus-la-mola-el-planet-.html
CLASS:PUBLIC
END:VEVENT
BEGIN:VEVENT
UID:DI_9961@www.rellinars.cat
DTSTAMP:20260421T181552
DTSTART:20260924T110000
DTEND:20260924T133000
SUMMARY:Bibliobús La Mola -Ajuntament- 
LOCATION:Pl. de l'Ajuntament, s/n 08299 Rellinars
METHOD:PUBLISH
X-WR-CALNAME:rellinars@rellinars.cat
X-WR-TIMEZONE:Europe/Madrid
DESCRIPTION:Per consultar les següents dates: https://bibliotecav
	irtual.diba.cat/ca/bibliobus-la-mola
URI:https://www.rellinars.cat/actualitat/agenda/9961-bibliobus-la-mola-ajuntament-.html
CLASS:PUBLIC
END:VEVENT
BEGIN:VEVENT
UID:DI_9868@www.rellinars.cat
DTSTAMP:20260421T181552
DTSTART:20261001T110000
DTEND:20261001T120000
SUMMARY:Servei d'atenció Mina  
LOCATION:Pl. de l'Ajuntament, s/n 08299 Rellinars
METHOD:PUBLISH
X-WR-CALNAME:rellinars@rellinars.cat
X-WR-TIMEZONE:Europe/Madrid
DESCRIPTION:Cada primer dijous de mes, està disponible el servei d&#
	39;atenció als clients de Mina a l'Ajuntament, d'11h a 12h.
	 No cal cita prèvia.
URI:https://www.rellinars.cat/actualitat/agenda/9868-servei-datencio-mina-.html
CLASS:PUBLIC
END:VEVENT
BEGIN:VEVENT
UID:DI_9904@www.rellinars.cat
DTSTAMP:20260421T181552
DTSTART:20261001T110000
DTEND:20261001T133000
SUMMARY:Bibliobús La Mola - El Planet - 
LOCATION:Passatge Xiprer, s/n 08299 Rellinars
METHOD:PUBLISH
X-WR-CALNAME:rellinars@rellinars.cat
X-WR-TIMEZONE:Europe/Madrid
DESCRIPTION:Per consultar les següents dates: https://bibliotecav
	irtual.diba.cat/ca/bibliobus-la-mola
URI:https://www.rellinars.cat/actualitat/agenda/9904-bibliobus-la-mola-el-planet-.html
CLASS:PUBLIC
END:VEVENT
BEGIN:VEVENT
UID:DI_9962@www.rellinars.cat
DTSTAMP:20260421T181552
DTSTART:20261008T110000
DTEND:20261008T133000
SUMMARY:Bibliobús La Mola -Ajuntament- 
LOCATION:Pl. de l'Ajuntament, s/n 08299 Rellinars
METHOD:PUBLISH
X-WR-CALNAME:rellinars@rellinars.cat
X-WR-TIMEZONE:Europe/Madrid
DESCRIPTION:Per consultar les següents dates: https://bibliotecav
	irtual.diba.cat/ca/bibliobus-la-mola
URI:https://www.rellinars.cat/actualitat/agenda/9962-bibliobus-la-mola-ajuntament-.html
CLASS:PUBLIC
END:VEVENT
BEGIN:VEVENT
UID:DI_9905@www.rellinars.cat
DTSTAMP:20260421T181552
DTSTART:20261015T110000
DTEND:20261015T133000
SUMMARY:Bibliobús La Mola - El Planet -  
LOCATION:Passatge Xiprer, s/n 08299 Rellinars
METHOD:PUBLISH
X-WR-CALNAME:rellinars@rellinars.cat
X-WR-TIMEZONE:Europe/Madrid
DESCRIPTION:Per consultar les següents dates: https://bibliotecav
	irtual.diba.cat/ca/bibliobus-la-mola
URI:https://www.rellinars.cat/actualitat/agenda/9905-bibliobus-la-mola-el-planet-.html
CLASS:PUBLIC
END:VEVENT
BEGIN:VEVENT
UID:DI_9963@www.rellinars.cat
DTSTAMP:20260421T181552
DTSTART:20261022T110000
DTEND:20261022T133000
SUMMARY:Bibliobús La Mola -Ajuntament-  
LOCATION:Pl. de l'Ajuntament, s/n 08299 Rellinars
METHOD:PUBLISH
X-WR-CALNAME:rellinars@rellinars.cat
X-WR-TIMEZONE:Europe/Madrid
DESCRIPTION:Per consultar les següents dates: https://bibliotecav
	irtual.diba.cat/ca/bibliobus-la-mola
URI:https://www.rellinars.cat/actualitat/agenda/9963-bibliobus-la-mola-ajuntament-.html
CLASS:PUBLIC
END:VEVENT
BEGIN:VEVENT
UID:DI_9906@www.rellinars.cat
DTSTAMP:20260421T181552
DTSTART:20261029T110000
DTEND:20261029T133000
SUMMARY:Bibliobús La Mola - El Planet -
LOCATION:Passatge Xiprer, s/n 08299 Rellinars
METHOD:PUBLISH
X-WR-CALNAME:rellinars@rellinars.cat
X-WR-TIMEZONE:Europe/Madrid
DESCRIPTION:Per consultar les següents dates: https://bibliotecav
	irtual.diba.cat/ca/bibliobus-la-mola
URI:https://www.rellinars.cat/actualitat/agenda/9906-bibliobus-la-mola-el-planet-.html
CLASS:PUBLIC
END:VEVENT
BEGIN:VEVENT
UID:DI_9869@www.rellinars.cat
DTSTAMP:20260421T181552
DTSTART:20261105T110000
DTEND:20261105T120000
SUMMARY:Servei d'atenció Mina 
LOCATION:Pl. de l'Ajuntament, s/n 08299 Rellinars
METHOD:PUBLISH
X-WR-CALNAME:rellinars@rellinars.cat
X-WR-TIMEZONE:Europe/Madrid
DESCRIPTION:Cada primer dijous de mes, està disponible el servei d&#
	39;atenció als clients de Mina a l'Ajuntament, d'11h a 12h.
	 No cal cita prèvia.
URI:https://www.rellinars.cat/actualitat/agenda/9869-servei-datencio-mina-.html
CLASS:PUBLIC
END:VEVENT
BEGIN:VEVENT
UID:DI_9964@www.rellinars.cat
DTSTAMP:20260421T181552
DTSTART:20261105T110000
DTEND:20261105T133000
SUMMARY:Bibliobús La Mola -Ajuntament-  
LOCATION:Pl. de l'Ajuntament, s/n 08299 Rellinars
METHOD:PUBLISH
X-WR-CALNAME:rellinars@rellinars.cat
X-WR-TIMEZONE:Europe/Madrid
DESCRIPTION:Per consultar les següents dates: https://bibliotecav
	irtual.diba.cat/ca/bibliobus-la-mola
URI:https://www.rellinars.cat/actualitat/agenda/9964-bibliobus-la-mola-ajuntament-.html
CLASS:PUBLIC
END:VEVENT
BEGIN:VEVENT
UID:DI_9907@www.rellinars.cat
DTSTAMP:20260421T181552
DTSTART:20261112T110000
DTEND:20261112T133000
SUMMARY:Bibliobús La Mola - El Planet - 
LOCATION:Passatge Xiprer, s/n 08299 Rellinars
METHOD:PUBLISH
X-WR-CALNAME:rellinars@rellinars.cat
X-WR-TIMEZONE:Europe/Madrid
DESCRIPTION:Per consultar les següents dates: https://bibliotecav
	irtual.diba.cat/ca/bibliobus-la-mola
URI:https://www.rellinars.cat/actualitat/agenda/9907-bibliobus-la-mola-el-planet-.html
CLASS:PUBLIC
END:VEVENT
BEGIN:VEVENT
UID:DI_9965@www.rellinars.cat
DTSTAMP:20260421T181552
DTSTART:20261119T110000
DTEND:20261119T133000
SUMMARY:Bibliobús La Mola -Ajuntament-  
LOCATION:Pl. de l'Ajuntament, s/n 08299 Rellinars
METHOD:PUBLISH
X-WR-CALNAME:rellinars@rellinars.cat
X-WR-TIMEZONE:Europe/Madrid
DESCRIPTION:Per consultar les següents dates: https://bibliotecav
	irtual.diba.cat/ca/bibliobus-la-mola
URI:https://www.rellinars.cat/actualitat/agenda/9965-bibliobus-la-mola-ajuntament-.html
CLASS:PUBLIC
END:VEVENT
BEGIN:VEVENT
UID:DI_9908@www.rellinars.cat
DTSTAMP:20260421T181552
DTSTART:20261126T110000
DTEND:20261126T133000
SUMMARY:Bibliobús La Mola - El Planet - 
LOCATION:Passatge Xiprer, s/n 08299 Rellinars
METHOD:PUBLISH
X-WR-CALNAME:rellinars@rellinars.cat
X-WR-TIMEZONE:Europe/Madrid
DESCRIPTION:Per consultar les següents dates: https://bibliotecav
	irtual.diba.cat/ca/bibliobus-la-mola
URI:https://www.rellinars.cat/actualitat/agenda/9908-bibliobus-la-mola-el-planet-.html
CLASS:PUBLIC
END:VEVENT
BEGIN:VEVENT
UID:DI_9870@www.rellinars.cat
DTSTAMP:20260421T181552
DTSTART:20261203T110000
DTEND:20261203T120000
SUMMARY:Servei d'atenció Mina 
LOCATION:Pl. de l'Ajuntament, s/n 08299 Rellinars
METHOD:PUBLISH
X-WR-CALNAME:rellinars@rellinars.cat
X-WR-TIMEZONE:Europe/Madrid
DESCRIPTION:Cada primer dijous de mes, està disponible el servei d&#
	39;atenció als clients de Mina a l'Ajuntament, d'11h a 12h.
	 No cal cita prèvia.
URI:https://www.rellinars.cat/actualitat/agenda/9870-servei-datencio-mina-.html
CLASS:PUBLIC
END:VEVENT
BEGIN:VEVENT
UID:DI_9966@www.rellinars.cat
DTSTAMP:20260421T181552
DTSTART:20261203T110000
DTEND:20261203T133000
SUMMARY:Bibliobús La Mola -Ajuntament-  
LOCATION:Pl. de l'Ajuntament, s/n 08299 Rellinars
METHOD:PUBLISH
X-WR-CALNAME:rellinars@rellinars.cat
X-WR-TIMEZONE:Europe/Madrid
DESCRIPTION:Per consultar les següents dates: https://bibliotecav
	irtual.diba.cat/ca/bibliobus-la-mola
URI:https://www.rellinars.cat/actualitat/agenda/9966-bibliobus-la-mola-ajuntament-.html
CLASS:PUBLIC
END:VEVENT
BEGIN:VEVENT
UID:DI_9909@www.rellinars.cat
DTSTAMP:20260421T181552
DTSTART:20261210T110000
DTEND:20261210T133000
SUMMARY:Bibliobús La Mola - El Planet - 
LOCATION:Passatge Xiprer, s/n 08299 Rellinars
METHOD:PUBLISH
X-WR-CALNAME:rellinars@rellinars.cat
X-WR-TIMEZONE:Europe/Madrid
DESCRIPTION:Per consultar les següents dates: https://bibliotecav
	irtual.diba.cat/ca/bibliobus-la-mola
URI:https://www.rellinars.cat/actualitat/agenda/9909-bibliobus-la-mola-el-planet-.html
CLASS:PUBLIC
END:VEVENT
BEGIN:VEVENT
UID:DI_9967@www.rellinars.cat
DTSTAMP:20260421T181552
DTSTART:20261217T110000
DTEND:20261217T133000
SUMMARY:Bibliobús La Mola -Ajuntament-  
LOCATION:Pl. de l'Ajuntament, s/n 08299 Rellinars
METHOD:PUBLISH
X-WR-CALNAME:rellinars@rellinars.cat
X-WR-TIMEZONE:Europe/Madrid
DESCRIPTION:Per consultar les següents dates: https://bibliotecav
	irtual.diba.cat/ca/bibliobus-la-mola
URI:https://www.rellinars.cat/actualitat/agenda/9967-bibliobus-la-mola-ajuntament-.html
CLASS:PUBLIC
END:VEVENT
END:VCALENDAR
